BEGIN:VCALENDAR
VERSION:2.0
PRODID:-//Leigh Academy Snowfields - ECPv6.15.20//NONSGML v1.0//EN
CALSCALE:GREGORIAN
METHOD:PUBLISH
X-ORIGINAL-URL:https://leighacademysnowfields.org.uk
X-WR-CALDESC:Events for Leigh Academy Snowfields
REFRESH-INTERVAL;VALUE=DURATION:PT1H
X-Robots-Tag:noindex
X-PUBLISHED-TTL:PT1H
BEGIN:VTIMEZONE
TZID:Europe/London
BEGIN:DAYLIGHT
TZOFFSETFROM:+0000
TZOFFSETTO:+0100
TZNAME:BST
DTSTART:20240331T010000
END:DAYLIGHT
BEGIN:STANDARD
TZOFFSETFROM:+0100
TZOFFSETTO:+0000
TZNAME:GMT
DTSTART:20241027T010000
END:STANDARD
BEGIN:DAYLIGHT
TZOFFSETFROM:+0000
TZOFFSETTO:+0100
TZNAME:BST
DTSTART:20250330T010000
END:DAYLIGHT
BEGIN:STANDARD
TZOFFSETFROM:+0100
TZOFFSETTO:+0000
TZNAME:GMT
DTSTART:20251026T010000
END:STANDARD
BEGIN:DAYLIGHT
TZOFFSETFROM:+0000
TZOFFSETTO:+0100
TZNAME:BST
DTSTART:20260329T010000
END:DAYLIGHT
BEGIN:STANDARD
TZOFFSETFROM:+0100
TZOFFSETTO:+0000
TZNAME:GMT
DTSTART:20261025T010000
END:STANDARD
END:VTIMEZONE
BEGIN:VEVENT
DTSTART;VALUE=DATE:20250710
DTEND;VALUE=DATE:20250711
DTSTAMP:20260421T102436
CREATED:20240924T095637Z
LAST-MODIFIED:20240924T095637Z
UID:1053-1752105600-1752191999@leighacademysnowfields.org.uk
SUMMARY:Bearsted Awards Ceremony
DESCRIPTION:Bearsted College (AM) – by invite only
URL:https://leighacademysnowfields.org.uk/event/bearsted-awards-ceremony/
END:VEVENT
BEGIN:VEVENT
DTSTART;VALUE=DATE:20250711
DTEND;VALUE=DATE:20250712
DTSTAMP:20260421T102436
CREATED:20240924T095707Z
LAST-MODIFIED:20240924T095707Z
UID:1054-1752192000-1752278399@leighacademysnowfields.org.uk
SUMMARY:Cranbrook Awards Ceremony
DESCRIPTION:Cranbrook College (PM) – by invite only
URL:https://leighacademysnowfields.org.uk/event/cranbrook-awards-ceremony/
END:VEVENT
BEGIN:VEVENT
DTSTART;VALUE=DATE:20250721
DTEND;VALUE=DATE:20250722
DTSTAMP:20260421T102436
CREATED:20241009T125606Z
LAST-MODIFIED:20241009T125606Z
UID:1072-1753056000-1753142399@leighacademysnowfields.org.uk
SUMMARY:End of Module 6
DESCRIPTION:
URL:https://leighacademysnowfields.org.uk/event/end-of-module-6/
END:VEVENT
END:VCALENDAR